BEGIN:VCALENDAR
VERSION:2.0
PRODID:-//Bridge for Peace - ECPv6.15.20//NONSGML v1.0//EN
CALSCALE:GREGORIAN
METHOD:PUBLISH
X-ORIGINAL-URL:https://bridgeforpeace.org
X-WR-CALDESC:Events for Bridge for Peace
REFRESH-INTERVAL;VALUE=DURATION:PT1H
X-Robots-Tag:noindex
X-PUBLISHED-TTL:PT1H
BEGIN:VTIMEZONE
TZID:America/New_York
BEGIN:DAYLIGHT
TZOFFSETFROM:-0500
TZOFFSETTO:-0400
TZNAME:EDT
DTSTART:20240310T070000
END:DAYLIGHT
BEGIN:STANDARD
TZOFFSETFROM:-0400
TZOFFSETTO:-0500
TZNAME:EST
DTSTART:20241103T060000
END:STANDARD
BEGIN:DAYLIGHT
TZOFFSETFROM:-0500
TZOFFSETTO:-0400
TZNAME:EDT
DTSTART:20250309T070000
END:DAYLIGHT
BEGIN:STANDARD
TZOFFSETFROM:-0400
TZOFFSETTO:-0500
TZNAME:EST
DTSTART:20251102T060000
END:STANDARD
BEGIN:DAYLIGHT
TZOFFSETFROM:-0500
TZOFFSETTO:-0400
TZNAME:EDT
DTSTART:20260308T070000
END:DAYLIGHT
BEGIN:STANDARD
TZOFFSETFROM:-0400
TZOFFSETTO:-0500
TZNAME:EST
DTSTART:20261101T060000
END:STANDARD
END:VTIMEZONE
BEGIN:VEVENT
DTSTART;TZID=America/New_York:20250928T223000
DTEND;TZID=America/New_York:20250928T230000
DTSTAMP:20260421T192753
CREATED:20241112T154446Z
LAST-MODIFIED:20241112T154446Z
UID:31402-1759098600-1759100400@bridgeforpeace.org
SUMMARY:B4PTV\, 10:30 pm Sundays\, Ch. 115 Public Access TV
DESCRIPTION:Bridge for Peace Television Program Broadcast\nBroadcasted on Public Access TV\, Ch. 115\, Sundays 10:30 pm
URL:https://bridgeforpeace.org/event/b4ptv-1030-pm-sundays-ch-115-public-access-tv/2025-09-28/
END:VEVENT
BEGIN:VEVENT
DTSTART;TZID=America/New_York:20250921T223000
DTEND;TZID=America/New_York:20250921T230000
DTSTAMP:20260421T192753
CREATED:20241112T154446Z
LAST-MODIFIED:20241112T154446Z
UID:31401-1758493800-1758495600@bridgeforpeace.org
SUMMARY:B4PTV\, 10:30 pm Sundays\, Ch. 115 Public Access TV
DESCRIPTION:Bridge for Peace Television Program Broadcast\nBroadcasted on Public Access TV\, Ch. 115\, Sundays 10:30 pm
URL:https://bridgeforpeace.org/event/b4ptv-1030-pm-sundays-ch-115-public-access-tv/2025-09-21/
END:VEVENT
BEGIN:VEVENT
DTSTART;TZID=America/New_York:20250914T223000
DTEND;TZID=America/New_York:20250914T230000
DTSTAMP:20260421T192753
CREATED:20241112T154446Z
LAST-MODIFIED:20241112T154446Z
UID:31400-1757889000-1757890800@bridgeforpeace.org
SUMMARY:B4PTV\, 10:30 pm Sundays\, Ch. 115 Public Access TV
DESCRIPTION:Bridge for Peace Television Program Broadcast\nBroadcasted on Public Access TV\, Ch. 115\, Sundays 10:30 pm
URL:https://bridgeforpeace.org/event/b4ptv-1030-pm-sundays-ch-115-public-access-tv/2025-09-14/
END:VEVENT
BEGIN:VEVENT
DTSTART;TZID=America/New_York:20250907T223000
DTEND;TZID=America/New_York:20250907T230000
DTSTAMP:20260421T192753
CREATED:20241112T154446Z
LAST-MODIFIED:20241112T154446Z
UID:31399-1757284200-1757286000@bridgeforpeace.org
SUMMARY:B4PTV\, 10:30 pm Sundays\, Ch. 115 Public Access TV
DESCRIPTION:Bridge for Peace Television Program Broadcast\nBroadcasted on Public Access TV\, Ch. 115\, Sundays 10:30 pm
URL:https://bridgeforpeace.org/event/b4ptv-1030-pm-sundays-ch-115-public-access-tv/2025-09-07/
END:VEVENT
BEGIN:VEVENT
DTSTART;TZID=America/New_York:20250831T223000
DTEND;TZID=America/New_York:20250831T230000
DTSTAMP:20260421T192753
CREATED:20241112T154446Z
LAST-MODIFIED:20241112T154446Z
UID:31398-1756679400-1756681200@bridgeforpeace.org
SUMMARY:B4PTV\, 10:30 pm Sundays\, Ch. 115 Public Access TV
DESCRIPTION:Bridge for Peace Television Program Broadcast\nBroadcasted on Public Access TV\, Ch. 115\, Sundays 10:30 pm
URL:https://bridgeforpeace.org/event/b4ptv-1030-pm-sundays-ch-115-public-access-tv/2025-08-31/
END:VEVENT
BEGIN:VEVENT
DTSTART;TZID=America/New_York:20250824T223000
DTEND;TZID=America/New_York:20250824T230000
DTSTAMP:20260421T192753
CREATED:20241112T154446Z
LAST-MODIFIED:20241112T154446Z
UID:31397-1756074600-1756076400@bridgeforpeace.org
SUMMARY:B4PTV\, 10:30 pm Sundays\, Ch. 115 Public Access TV
DESCRIPTION:Bridge for Peace Television Program Broadcast\nBroadcasted on Public Access TV\, Ch. 115\, Sundays 10:30 pm
URL:https://bridgeforpeace.org/event/b4ptv-1030-pm-sundays-ch-115-public-access-tv/2025-08-24/
END:VEVENT
BEGIN:VEVENT
DTSTART;TZID=America/New_York:20250817T223000
DTEND;TZID=America/New_York:20250817T230000
DTSTAMP:20260421T192753
CREATED:20241112T154446Z
LAST-MODIFIED:20241112T154446Z
UID:31396-1755469800-1755471600@bridgeforpeace.org
SUMMARY:B4PTV\, 10:30 pm Sundays\, Ch. 115 Public Access TV
DESCRIPTION:Bridge for Peace Television Program Broadcast\nBroadcasted on Public Access TV\, Ch. 115\, Sundays 10:30 pm
URL:https://bridgeforpeace.org/event/b4ptv-1030-pm-sundays-ch-115-public-access-tv/2025-08-17/
END:VEVENT
BEGIN:VEVENT
DTSTART;TZID=America/New_York:20250810T223000
DTEND;TZID=America/New_York:20250810T230000
DTSTAMP:20260421T192753
CREATED:20241112T154446Z
LAST-MODIFIED:20241112T154446Z
UID:31395-1754865000-1754866800@bridgeforpeace.org
SUMMARY:B4PTV\, 10:30 pm Sundays\, Ch. 115 Public Access TV
DESCRIPTION:Bridge for Peace Television Program Broadcast\nBroadcasted on Public Access TV\, Ch. 115\, Sundays 10:30 pm
URL:https://bridgeforpeace.org/event/b4ptv-1030-pm-sundays-ch-115-public-access-tv/2025-08-10/
END:VEVENT
BEGIN:VEVENT
DTSTART;TZID=America/New_York:20250803T223000
DTEND;TZID=America/New_York:20250803T230000
DTSTAMP:20260421T192753
CREATED:20241112T154446Z
LAST-MODIFIED:20241112T154446Z
UID:31394-1754260200-1754262000@bridgeforpeace.org
SUMMARY:B4PTV\, 10:30 pm Sundays\, Ch. 115 Public Access TV
DESCRIPTION:Bridge for Peace Television Program Broadcast\nBroadcasted on Public Access TV\, Ch. 115\, Sundays 10:30 pm
URL:https://bridgeforpeace.org/event/b4ptv-1030-pm-sundays-ch-115-public-access-tv/2025-08-03/
END:VEVENT
BEGIN:VEVENT
DTSTART;TZID=America/New_York:20250727T223000
DTEND;TZID=America/New_York:20250727T230000
DTSTAMP:20260421T192753
CREATED:20241112T154446Z
LAST-MODIFIED:20241112T154446Z
UID:31393-1753655400-1753657200@bridgeforpeace.org
SUMMARY:B4PTV\, 10:30 pm Sundays\, Ch. 115 Public Access TV
DESCRIPTION:Bridge for Peace Television Program Broadcast\nBroadcasted on Public Access TV\, Ch. 115\, Sundays 10:30 pm
URL:https://bridgeforpeace.org/event/b4ptv-1030-pm-sundays-ch-115-public-access-tv/2025-07-27/
END:VEVENT
BEGIN:VEVENT
DTSTART;TZID=America/New_York:20250720T223000
DTEND;TZID=America/New_York:20250720T230000
DTSTAMP:20260421T192753
CREATED:20241112T154446Z
LAST-MODIFIED:20241112T154446Z
UID:31392-1753050600-1753052400@bridgeforpeace.org
SUMMARY:B4PTV\, 10:30 pm Sundays\, Ch. 115 Public Access TV
DESCRIPTION:Bridge for Peace Television Program Broadcast\nBroadcasted on Public Access TV\, Ch. 115\, Sundays 10:30 pm
URL:https://bridgeforpeace.org/event/b4ptv-1030-pm-sundays-ch-115-public-access-tv/2025-07-20/
END:VEVENT
BEGIN:VEVENT
DTSTART;TZID=America/New_York:20250713T223000
DTEND;TZID=America/New_York:20250713T230000
DTSTAMP:20260421T192753
CREATED:20241112T154446Z
LAST-MODIFIED:20241112T154446Z
UID:31391-1752445800-1752447600@bridgeforpeace.org
SUMMARY:B4PTV\, 10:30 pm Sundays\, Ch. 115 Public Access TV
DESCRIPTION:Bridge for Peace Television Program Broadcast\nBroadcasted on Public Access TV\, Ch. 115\, Sundays 10:30 pm
URL:https://bridgeforpeace.org/event/b4ptv-1030-pm-sundays-ch-115-public-access-tv/2025-07-13/
END:VEVENT
BEGIN:VEVENT
DTSTART;TZID=America/New_York:20250706T223000
DTEND;TZID=America/New_York:20250706T230000
DTSTAMP:20260421T192753
CREATED:20241112T154446Z
LAST-MODIFIED:20241112T154446Z
UID:31390-1751841000-1751842800@bridgeforpeace.org
SUMMARY:B4PTV\, 10:30 pm Sundays\, Ch. 115 Public Access TV
DESCRIPTION:Bridge for Peace Television Program Broadcast\nBroadcasted on Public Access TV\, Ch. 115\, Sundays 10:30 pm
URL:https://bridgeforpeace.org/event/b4ptv-1030-pm-sundays-ch-115-public-access-tv/2025-07-06/
END:VEVENT
BEGIN:VEVENT
DTSTART;TZID=America/New_York:20250629T223000
DTEND;TZID=America/New_York:20250629T230000
DTSTAMP:20260421T192753
CREATED:20241112T154446Z
LAST-MODIFIED:20241112T154446Z
UID:31389-1751236200-1751238000@bridgeforpeace.org
SUMMARY:B4PTV\, 10:30 pm Sundays\, Ch. 115 Public Access TV
DESCRIPTION:Bridge for Peace Television Program Broadcast\nBroadcasted on Public Access TV\, Ch. 115\, Sundays 10:30 pm
URL:https://bridgeforpeace.org/event/b4ptv-1030-pm-sundays-ch-115-public-access-tv/2025-06-29/
END:VEVENT
BEGIN:VEVENT
DTSTART;TZID=America/New_York:20250622T223000
DTEND;TZID=America/New_York:20250622T230000
DTSTAMP:20260421T192753
CREATED:20241112T154446Z
LAST-MODIFIED:20241112T154446Z
UID:31388-1750631400-1750633200@bridgeforpeace.org
SUMMARY:B4PTV\, 10:30 pm Sundays\, Ch. 115 Public Access TV
DESCRIPTION:Bridge for Peace Television Program Broadcast\nBroadcasted on Public Access TV\, Ch. 115\, Sundays 10:30 pm
URL:https://bridgeforpeace.org/event/b4ptv-1030-pm-sundays-ch-115-public-access-tv/2025-06-22/
END:VEVENT
BEGIN:VEVENT
DTSTART;TZID=America/New_York:20250615T223000
DTEND;TZID=America/New_York:20250615T230000
DTSTAMP:20260421T192753
CREATED:20241112T154446Z
LAST-MODIFIED:20241112T154446Z
UID:31387-1750026600-1750028400@bridgeforpeace.org
SUMMARY:B4PTV\, 10:30 pm Sundays\, Ch. 115 Public Access TV
DESCRIPTION:Bridge for Peace Television Program Broadcast\nBroadcasted on Public Access TV\, Ch. 115\, Sundays 10:30 pm
URL:https://bridgeforpeace.org/event/b4ptv-1030-pm-sundays-ch-115-public-access-tv/2025-06-15/
END:VEVENT
BEGIN:VEVENT
DTSTART;TZID=America/New_York:20250608T223000
DTEND;TZID=America/New_York:20250608T230000
DTSTAMP:20260421T192753
CREATED:20241112T154446Z
LAST-MODIFIED:20241112T154446Z
UID:31386-1749421800-1749423600@bridgeforpeace.org
SUMMARY:B4PTV\, 10:30 pm Sundays\, Ch. 115 Public Access TV
DESCRIPTION:Bridge for Peace Television Program Broadcast\nBroadcasted on Public Access TV\, Ch. 115\, Sundays 10:30 pm
URL:https://bridgeforpeace.org/event/b4ptv-1030-pm-sundays-ch-115-public-access-tv/2025-06-08/
END:VEVENT
BEGIN:VEVENT
DTSTART;TZID=America/New_York:20250601T223000
DTEND;TZID=America/New_York:20250601T230000
DTSTAMP:20260421T192753
CREATED:20241112T154446Z
LAST-MODIFIED:20241112T154446Z
UID:31385-1748817000-1748818800@bridgeforpeace.org
SUMMARY:B4PTV\, 10:30 pm Sundays\, Ch. 115 Public Access TV
DESCRIPTION:Bridge for Peace Television Program Broadcast\nBroadcasted on Public Access TV\, Ch. 115\, Sundays 10:30 pm
URL:https://bridgeforpeace.org/event/b4ptv-1030-pm-sundays-ch-115-public-access-tv/2025-06-01/
END:VEVENT
BEGIN:VEVENT
DTSTART;TZID=America/New_York:20250525T223000
DTEND;TZID=America/New_York:20250525T230000
DTSTAMP:20260421T192753
CREATED:20241112T154446Z
LAST-MODIFIED:20241112T154446Z
UID:31384-1748212200-1748214000@bridgeforpeace.org
SUMMARY:B4PTV\, 10:30 pm Sundays\, Ch. 115 Public Access TV
DESCRIPTION:Bridge for Peace Television Program Broadcast\nBroadcasted on Public Access TV\, Ch. 115\, Sundays 10:30 pm
URL:https://bridgeforpeace.org/event/b4ptv-1030-pm-sundays-ch-115-public-access-tv/2025-05-25/
END:VEVENT
BEGIN:VEVENT
DTSTART;TZID=America/New_York:20250518T223000
DTEND;TZID=America/New_York:20250518T230000
DTSTAMP:20260421T192753
CREATED:20241112T154446Z
LAST-MODIFIED:20241112T154446Z
UID:31383-1747607400-1747609200@bridgeforpeace.org
SUMMARY:B4PTV\, 10:30 pm Sundays\, Ch. 115 Public Access TV
DESCRIPTION:Bridge for Peace Television Program Broadcast\nBroadcasted on Public Access TV\, Ch. 115\, Sundays 10:30 pm
URL:https://bridgeforpeace.org/event/b4ptv-1030-pm-sundays-ch-115-public-access-tv/2025-05-18/
END:VEVENT
BEGIN:VEVENT
DTSTART;TZID=America/New_York:20250511T223000
DTEND;TZID=America/New_York:20250511T230000
DTSTAMP:20260421T192753
CREATED:20241112T154446Z
LAST-MODIFIED:20241112T154446Z
UID:31382-1747002600-1747004400@bridgeforpeace.org
SUMMARY:B4PTV\, 10:30 pm Sundays\, Ch. 115 Public Access TV
DESCRIPTION:Bridge for Peace Television Program Broadcast\nBroadcasted on Public Access TV\, Ch. 115\, Sundays 10:30 pm
URL:https://bridgeforpeace.org/event/b4ptv-1030-pm-sundays-ch-115-public-access-tv/2025-05-11/
END:VEVENT
BEGIN:VEVENT
DTSTART;TZID=America/New_York:20250504T223000
DTEND;TZID=America/New_York:20250504T230000
DTSTAMP:20260421T192753
CREATED:20241112T154446Z
LAST-MODIFIED:20241112T154446Z
UID:31350-1746397800-1746399600@bridgeforpeace.org
SUMMARY:B4PTV\, 10:30 pm Sundays\, Ch. 115 Public Access TV
DESCRIPTION:Bridge for Peace Television Program Broadcast\nBroadcasted on Public Access TV\, Ch. 115\, Sundays 10:30 pm
URL:https://bridgeforpeace.org/event/b4ptv-1030-pm-sundays-ch-115-public-access-tv/2025-05-04/
END:VEVENT
BEGIN:VEVENT
DTSTART;TZID=America/New_York:20250427T223000
DTEND;TZID=America/New_York:20250427T230000
DTSTAMP:20260421T192753
CREATED:20241112T154446Z
LAST-MODIFIED:20241112T154446Z
UID:31349-1745793000-1745794800@bridgeforpeace.org
SUMMARY:B4PTV\, 10:30 pm Sundays\, Ch. 115 Public Access TV
DESCRIPTION:Bridge for Peace Television Program Broadcast\nBroadcasted on Public Access TV\, Ch. 115\, Sundays 10:30 pm
URL:https://bridgeforpeace.org/event/b4ptv-1030-pm-sundays-ch-115-public-access-tv/2025-04-27/
END:VEVENT
BEGIN:VEVENT
DTSTART;TZID=America/New_York:20250420T223000
DTEND;TZID=America/New_York:20250420T230000
DTSTAMP:20260421T192753
CREATED:20241112T154446Z
LAST-MODIFIED:20241112T154446Z
UID:31348-1745188200-1745190000@bridgeforpeace.org
SUMMARY:B4PTV\, 10:30 pm Sundays\, Ch. 115 Public Access TV
DESCRIPTION:Bridge for Peace Television Program Broadcast\nBroadcasted on Public Access TV\, Ch. 115\, Sundays 10:30 pm
URL:https://bridgeforpeace.org/event/b4ptv-1030-pm-sundays-ch-115-public-access-tv/2025-04-20/
END:VEVENT
BEGIN:VEVENT
DTSTART;TZID=America/New_York:20250413T223000
DTEND;TZID=America/New_York:20250413T230000
DTSTAMP:20260421T192753
CREATED:20241112T154446Z
LAST-MODIFIED:20241112T154446Z
UID:31347-1744583400-1744585200@bridgeforpeace.org
SUMMARY:B4PTV\, 10:30 pm Sundays\, Ch. 115 Public Access TV
DESCRIPTION:Bridge for Peace Television Program Broadcast\nBroadcasted on Public Access TV\, Ch. 115\, Sundays 10:30 pm
URL:https://bridgeforpeace.org/event/b4ptv-1030-pm-sundays-ch-115-public-access-tv/2025-04-13/
END:VEVENT
BEGIN:VEVENT
DTSTART;TZID=America/New_York:20250406T223000
DTEND;TZID=America/New_York:20250406T230000
DTSTAMP:20260421T192753
CREATED:20241112T154446Z
LAST-MODIFIED:20241112T154446Z
UID:31346-1743978600-1743980400@bridgeforpeace.org
SUMMARY:B4PTV\, 10:30 pm Sundays\, Ch. 115 Public Access TV
DESCRIPTION:Bridge for Peace Television Program Broadcast\nBroadcasted on Public Access TV\, Ch. 115\, Sundays 10:30 pm
URL:https://bridgeforpeace.org/event/b4ptv-1030-pm-sundays-ch-115-public-access-tv/2025-04-06/
END:VEVENT
BEGIN:VEVENT
DTSTART;TZID=America/New_York:20250330T223000
DTEND;TZID=America/New_York:20250330T230000
DTSTAMP:20260421T192753
CREATED:20241112T154446Z
LAST-MODIFIED:20241112T154446Z
UID:31345-1743373800-1743375600@bridgeforpeace.org
SUMMARY:B4PTV\, 10:30 pm Sundays\, Ch. 115 Public Access TV
DESCRIPTION:Bridge for Peace Television Program Broadcast\nBroadcasted on Public Access TV\, Ch. 115\, Sundays 10:30 pm
URL:https://bridgeforpeace.org/event/b4ptv-1030-pm-sundays-ch-115-public-access-tv/2025-03-30/
END:VEVENT
BEGIN:VEVENT
DTSTART;TZID=America/New_York:20250323T223000
DTEND;TZID=America/New_York:20250323T230000
DTSTAMP:20260421T192753
CREATED:20241112T154446Z
LAST-MODIFIED:20241112T154446Z
UID:31344-1742769000-1742770800@bridgeforpeace.org
SUMMARY:B4PTV\, 10:30 pm Sundays\, Ch. 115 Public Access TV
DESCRIPTION:Bridge for Peace Television Program Broadcast\nBroadcasted on Public Access TV\, Ch. 115\, Sundays 10:30 pm
URL:https://bridgeforpeace.org/event/b4ptv-1030-pm-sundays-ch-115-public-access-tv/2025-03-23/
END:VEVENT
BEGIN:VEVENT
DTSTART;TZID=America/New_York:20250316T223000
DTEND;TZID=America/New_York:20250316T230000
DTSTAMP:20260421T192753
CREATED:20241112T154446Z
LAST-MODIFIED:20241112T154446Z
UID:31343-1742164200-1742166000@bridgeforpeace.org
SUMMARY:B4PTV\, 10:30 pm Sundays\, Ch. 115 Public Access TV
DESCRIPTION:Bridge for Peace Television Program Broadcast\nBroadcasted on Public Access TV\, Ch. 115\, Sundays 10:30 pm
URL:https://bridgeforpeace.org/event/b4ptv-1030-pm-sundays-ch-115-public-access-tv/2025-03-16/
END:VEVENT
BEGIN:VEVENT
DTSTART;TZID=America/New_York:20250309T223000
DTEND;TZID=America/New_York:20250309T230000
DTSTAMP:20260421T192753
CREATED:20241112T154446Z
LAST-MODIFIED:20241112T154446Z
UID:31342-1741559400-1741561200@bridgeforpeace.org
SUMMARY:B4PTV\, 10:30 pm Sundays\, Ch. 115 Public Access TV
DESCRIPTION:Bridge for Peace Television Program Broadcast\nBroadcasted on Public Access TV\, Ch. 115\, Sundays 10:30 pm
URL:https://bridgeforpeace.org/event/b4ptv-1030-pm-sundays-ch-115-public-access-tv/2025-03-09/
END:VEVENT
END:VCALENDAR