BEGIN:VCALENDAR
VERSION:2.0
PRODID:-//Bridge for Peace - ECPv6.15.20//NONSGML v1.0//EN
CALSCALE:GREGORIAN
METHOD:PUBLISH
X-ORIGINAL-URL:https://bridgeforpeace.org
X-WR-CALDESC:Events for Bridge for Peace
REFRESH-INTERVAL;VALUE=DURATION:PT1H
X-Robots-Tag:noindex
X-PUBLISHED-TTL:PT1H
BEGIN:VTIMEZONE
TZID:America/New_York
BEGIN:DAYLIGHT
TZOFFSETFROM:-0500
TZOFFSETTO:-0400
TZNAME:EDT
DTSTART:20240310T070000
END:DAYLIGHT
BEGIN:STANDARD
TZOFFSETFROM:-0400
TZOFFSETTO:-0500
TZNAME:EST
DTSTART:20241103T060000
END:STANDARD
BEGIN:DAYLIGHT
TZOFFSETFROM:-0500
TZOFFSETTO:-0400
TZNAME:EDT
DTSTART:20250309T070000
END:DAYLIGHT
BEGIN:STANDARD
TZOFFSETFROM:-0400
TZOFFSETTO:-0500
TZNAME:EST
DTSTART:20251102T060000
END:STANDARD
BEGIN:DAYLIGHT
TZOFFSETFROM:-0500
TZOFFSETTO:-0400
TZNAME:EDT
DTSTART:20260308T070000
END:DAYLIGHT
BEGIN:STANDARD
TZOFFSETFROM:-0400
TZOFFSETTO:-0500
TZNAME:EST
DTSTART:20261101T060000
END:STANDARD
BEGIN:DAYLIGHT
TZOFFSETFROM:-0500
TZOFFSETTO:-0400
TZNAME:EDT
DTSTART:20270314T070000
END:DAYLIGHT
BEGIN:STANDARD
TZOFFSETFROM:-0400
TZOFFSETTO:-0500
TZNAME:EST
DTSTART:20271107T060000
END:STANDARD
END:VTIMEZONE
BEGIN:VEVENT
DTSTART;TZID=America/New_York:20260420T053000
DTEND;TZID=America/New_York:20260420T060000
DTSTAMP:20260424T125735
CREATED:20251010T183836Z
LAST-MODIFIED:20251010T183836Z
UID:31891-1776663000-1776664800@bridgeforpeace.org
SUMMARY:Hope Starts Here TV\, 5:30 am Mondays\, Ch. 115\, Altice USA Public Access TV
DESCRIPTION:Hope Starts Here Television Program Broadcast\nBroadcasted on Altice USA Public Access TV\, Ch. 115\, Mondays 5:30 am
URL:https://bridgeforpeace.org/event/hope-starts-here-tv-530-am-mondays-ch-115-altice-usa-public-access-tv/2026-04-20/
END:VEVENT
BEGIN:VEVENT
DTSTART;TZID=America/New_York:20260413T053000
DTEND;TZID=America/New_York:20260413T060000
DTSTAMP:20260424T125735
CREATED:20251010T183836Z
LAST-MODIFIED:20251010T183836Z
UID:31890-1776058200-1776060000@bridgeforpeace.org
SUMMARY:Hope Starts Here TV\, 5:30 am Mondays\, Ch. 115\, Altice USA Public Access TV
DESCRIPTION:Hope Starts Here Television Program Broadcast\nBroadcasted on Altice USA Public Access TV\, Ch. 115\, Mondays 5:30 am
URL:https://bridgeforpeace.org/event/hope-starts-here-tv-530-am-mondays-ch-115-altice-usa-public-access-tv/2026-04-13/
END:VEVENT
BEGIN:VEVENT
DTSTART;TZID=America/New_York:20260406T053000
DTEND;TZID=America/New_York:20260406T060000
DTSTAMP:20260424T125735
CREATED:20251010T183836Z
LAST-MODIFIED:20251010T183836Z
UID:31889-1775453400-1775455200@bridgeforpeace.org
SUMMARY:Hope Starts Here TV\, 5:30 am Mondays\, Ch. 115\, Altice USA Public Access TV
DESCRIPTION:Hope Starts Here Television Program Broadcast\nBroadcasted on Altice USA Public Access TV\, Ch. 115\, Mondays 5:30 am
URL:https://bridgeforpeace.org/event/hope-starts-here-tv-530-am-mondays-ch-115-altice-usa-public-access-tv/2026-04-06/
END:VEVENT
BEGIN:VEVENT
DTSTART;TZID=America/New_York:20260330T053000
DTEND;TZID=America/New_York:20260330T060000
DTSTAMP:20260424T125735
CREATED:20251010T183836Z
LAST-MODIFIED:20251010T183836Z
UID:31888-1774848600-1774850400@bridgeforpeace.org
SUMMARY:Hope Starts Here TV\, 5:30 am Mondays\, Ch. 115\, Altice USA Public Access TV
DESCRIPTION:Hope Starts Here Television Program Broadcast\nBroadcasted on Altice USA Public Access TV\, Ch. 115\, Mondays 5:30 am
URL:https://bridgeforpeace.org/event/hope-starts-here-tv-530-am-mondays-ch-115-altice-usa-public-access-tv/2026-03-30/
END:VEVENT
BEGIN:VEVENT
DTSTART;TZID=America/New_York:20260323T053000
DTEND;TZID=America/New_York:20260323T060000
DTSTAMP:20260424T125735
CREATED:20251010T183836Z
LAST-MODIFIED:20251010T183836Z
UID:31887-1774243800-1774245600@bridgeforpeace.org
SUMMARY:Hope Starts Here TV\, 5:30 am Mondays\, Ch. 115\, Altice USA Public Access TV
DESCRIPTION:Hope Starts Here Television Program Broadcast\nBroadcasted on Altice USA Public Access TV\, Ch. 115\, Mondays 5:30 am
URL:https://bridgeforpeace.org/event/hope-starts-here-tv-530-am-mondays-ch-115-altice-usa-public-access-tv/2026-03-23/
END:VEVENT
BEGIN:VEVENT
DTSTART;TZID=America/New_York:20260316T053000
DTEND;TZID=America/New_York:20260316T060000
DTSTAMP:20260424T125735
CREATED:20251010T183836Z
LAST-MODIFIED:20251010T183836Z
UID:31886-1773639000-1773640800@bridgeforpeace.org
SUMMARY:Hope Starts Here TV\, 5:30 am Mondays\, Ch. 115\, Altice USA Public Access TV
DESCRIPTION:Hope Starts Here Television Program Broadcast\nBroadcasted on Altice USA Public Access TV\, Ch. 115\, Mondays 5:30 am
URL:https://bridgeforpeace.org/event/hope-starts-here-tv-530-am-mondays-ch-115-altice-usa-public-access-tv/2026-03-16/
END:VEVENT
BEGIN:VEVENT
DTSTART;TZID=America/New_York:20260309T053000
DTEND;TZID=America/New_York:20260309T060000
DTSTAMP:20260424T125735
CREATED:20251010T183836Z
LAST-MODIFIED:20251010T183836Z
UID:31885-1773034200-1773036000@bridgeforpeace.org
SUMMARY:Hope Starts Here TV\, 5:30 am Mondays\, Ch. 115\, Altice USA Public Access TV
DESCRIPTION:Hope Starts Here Television Program Broadcast\nBroadcasted on Altice USA Public Access TV\, Ch. 115\, Mondays 5:30 am
URL:https://bridgeforpeace.org/event/hope-starts-here-tv-530-am-mondays-ch-115-altice-usa-public-access-tv/2026-03-09/
END:VEVENT
BEGIN:VEVENT
DTSTART;TZID=America/New_York:20260302T053000
DTEND;TZID=America/New_York:20260302T060000
DTSTAMP:20260424T125735
CREATED:20251010T183836Z
LAST-MODIFIED:20251010T183836Z
UID:31884-1772429400-1772431200@bridgeforpeace.org
SUMMARY:Hope Starts Here TV\, 5:30 am Mondays\, Ch. 115\, Altice USA Public Access TV
DESCRIPTION:Hope Starts Here Television Program Broadcast\nBroadcasted on Altice USA Public Access TV\, Ch. 115\, Mondays 5:30 am
URL:https://bridgeforpeace.org/event/hope-starts-here-tv-530-am-mondays-ch-115-altice-usa-public-access-tv/2026-03-02/
END:VEVENT
BEGIN:VEVENT
DTSTART;TZID=America/New_York:20260223T053000
DTEND;TZID=America/New_York:20260223T060000
DTSTAMP:20260424T125735
CREATED:20251010T183836Z
LAST-MODIFIED:20251010T183836Z
UID:31883-1771824600-1771826400@bridgeforpeace.org
SUMMARY:Hope Starts Here TV\, 5:30 am Mondays\, Ch. 115\, Altice USA Public Access TV
DESCRIPTION:Hope Starts Here Television Program Broadcast\nBroadcasted on Altice USA Public Access TV\, Ch. 115\, Mondays 5:30 am
URL:https://bridgeforpeace.org/event/hope-starts-here-tv-530-am-mondays-ch-115-altice-usa-public-access-tv/2026-02-23/
END:VEVENT
BEGIN:VEVENT
DTSTART;TZID=America/New_York:20260216T053000
DTEND;TZID=America/New_York:20260216T060000
DTSTAMP:20260424T125735
CREATED:20251010T183836Z
LAST-MODIFIED:20251010T183836Z
UID:31882-1771219800-1771221600@bridgeforpeace.org
SUMMARY:Hope Starts Here TV\, 5:30 am Mondays\, Ch. 115\, Altice USA Public Access TV
DESCRIPTION:Hope Starts Here Television Program Broadcast\nBroadcasted on Altice USA Public Access TV\, Ch. 115\, Mondays 5:30 am
URL:https://bridgeforpeace.org/event/hope-starts-here-tv-530-am-mondays-ch-115-altice-usa-public-access-tv/2026-02-16/
END:VEVENT
BEGIN:VEVENT
DTSTART;TZID=America/New_York:20260209T053000
DTEND;TZID=America/New_York:20260209T060000
DTSTAMP:20260424T125735
CREATED:20251010T183836Z
LAST-MODIFIED:20251010T183836Z
UID:31881-1770615000-1770616800@bridgeforpeace.org
SUMMARY:Hope Starts Here TV\, 5:30 am Mondays\, Ch. 115\, Altice USA Public Access TV
DESCRIPTION:Hope Starts Here Television Program Broadcast\nBroadcasted on Altice USA Public Access TV\, Ch. 115\, Mondays 5:30 am
URL:https://bridgeforpeace.org/event/hope-starts-here-tv-530-am-mondays-ch-115-altice-usa-public-access-tv/2026-02-09/
END:VEVENT
BEGIN:VEVENT
DTSTART;TZID=America/New_York:20260202T053000
DTEND;TZID=America/New_York:20260202T060000
DTSTAMP:20260424T125735
CREATED:20251010T183836Z
LAST-MODIFIED:20251010T183836Z
UID:31880-1770010200-1770012000@bridgeforpeace.org
SUMMARY:Hope Starts Here TV\, 5:30 am Mondays\, Ch. 115\, Altice USA Public Access TV
DESCRIPTION:Hope Starts Here Television Program Broadcast\nBroadcasted on Altice USA Public Access TV\, Ch. 115\, Mondays 5:30 am
URL:https://bridgeforpeace.org/event/hope-starts-here-tv-530-am-mondays-ch-115-altice-usa-public-access-tv/2026-02-02/
END:VEVENT
BEGIN:VEVENT
DTSTART;TZID=America/New_York:20260126T053000
DTEND;TZID=America/New_York:20260126T060000
DTSTAMP:20260424T125735
CREATED:20251010T183836Z
LAST-MODIFIED:20251010T183836Z
UID:31879-1769405400-1769407200@bridgeforpeace.org
SUMMARY:Hope Starts Here TV\, 5:30 am Mondays\, Ch. 115\, Altice USA Public Access TV
DESCRIPTION:Hope Starts Here Television Program Broadcast\nBroadcasted on Altice USA Public Access TV\, Ch. 115\, Mondays 5:30 am
URL:https://bridgeforpeace.org/event/hope-starts-here-tv-530-am-mondays-ch-115-altice-usa-public-access-tv/2026-01-26/
END:VEVENT
BEGIN:VEVENT
DTSTART;TZID=America/New_York:20260119T053000
DTEND;TZID=America/New_York:20260119T060000
DTSTAMP:20260424T125735
CREATED:20251010T183836Z
LAST-MODIFIED:20251010T183836Z
UID:31878-1768800600-1768802400@bridgeforpeace.org
SUMMARY:Hope Starts Here TV\, 5:30 am Mondays\, Ch. 115\, Altice USA Public Access TV
DESCRIPTION:Hope Starts Here Television Program Broadcast\nBroadcasted on Altice USA Public Access TV\, Ch. 115\, Mondays 5:30 am
URL:https://bridgeforpeace.org/event/hope-starts-here-tv-530-am-mondays-ch-115-altice-usa-public-access-tv/2026-01-19/
END:VEVENT
BEGIN:VEVENT
DTSTART;TZID=America/New_York:20260112T053000
DTEND;TZID=America/New_York:20260112T060000
DTSTAMP:20260424T125735
CREATED:20251010T183836Z
LAST-MODIFIED:20251010T183836Z
UID:31877-1768195800-1768197600@bridgeforpeace.org
SUMMARY:Hope Starts Here TV\, 5:30 am Mondays\, Ch. 115\, Altice USA Public Access TV
DESCRIPTION:Hope Starts Here Television Program Broadcast\nBroadcasted on Altice USA Public Access TV\, Ch. 115\, Mondays 5:30 am
URL:https://bridgeforpeace.org/event/hope-starts-here-tv-530-am-mondays-ch-115-altice-usa-public-access-tv/2026-01-12/
END:VEVENT
BEGIN:VEVENT
DTSTART;TZID=America/New_York:20260105T053000
DTEND;TZID=America/New_York:20260105T060000
DTSTAMP:20260424T125735
CREATED:20251010T183836Z
LAST-MODIFIED:20251010T183836Z
UID:31876-1767591000-1767592800@bridgeforpeace.org
SUMMARY:Hope Starts Here TV\, 5:30 am Mondays\, Ch. 115\, Altice USA Public Access TV
DESCRIPTION:Hope Starts Here Television Program Broadcast\nBroadcasted on Altice USA Public Access TV\, Ch. 115\, Mondays 5:30 am
URL:https://bridgeforpeace.org/event/hope-starts-here-tv-530-am-mondays-ch-115-altice-usa-public-access-tv/2026-01-05/
END:VEVENT
BEGIN:VEVENT
DTSTART;TZID=America/New_York:20251229T053000
DTEND;TZID=America/New_York:20251229T060000
DTSTAMP:20260424T125735
CREATED:20251010T183836Z
LAST-MODIFIED:20251010T183836Z
UID:31875-1766986200-1766988000@bridgeforpeace.org
SUMMARY:Hope Starts Here TV\, 5:30 am Mondays\, Ch. 115\, Altice USA Public Access TV
DESCRIPTION:Hope Starts Here Television Program Broadcast\nBroadcasted on Altice USA Public Access TV\, Ch. 115\, Mondays 5:30 am
URL:https://bridgeforpeace.org/event/hope-starts-here-tv-530-am-mondays-ch-115-altice-usa-public-access-tv/2025-12-29/
END:VEVENT
BEGIN:VEVENT
DTSTART;TZID=America/New_York:20251222T053000
DTEND;TZID=America/New_York:20251222T060000
DTSTAMP:20260424T125735
CREATED:20251010T183836Z
LAST-MODIFIED:20251010T183836Z
UID:31874-1766381400-1766383200@bridgeforpeace.org
SUMMARY:Hope Starts Here TV\, 5:30 am Mondays\, Ch. 115\, Altice USA Public Access TV
DESCRIPTION:Hope Starts Here Television Program Broadcast\nBroadcasted on Altice USA Public Access TV\, Ch. 115\, Mondays 5:30 am
URL:https://bridgeforpeace.org/event/hope-starts-here-tv-530-am-mondays-ch-115-altice-usa-public-access-tv/2025-12-22/
END:VEVENT
BEGIN:VEVENT
DTSTART;TZID=America/New_York:20251215T053000
DTEND;TZID=America/New_York:20251215T060000
DTSTAMP:20260424T125735
CREATED:20251010T183836Z
LAST-MODIFIED:20251010T183836Z
UID:31873-1765776600-1765778400@bridgeforpeace.org
SUMMARY:Hope Starts Here TV\, 5:30 am Mondays\, Ch. 115\, Altice USA Public Access TV
DESCRIPTION:Hope Starts Here Television Program Broadcast\nBroadcasted on Altice USA Public Access TV\, Ch. 115\, Mondays 5:30 am
URL:https://bridgeforpeace.org/event/hope-starts-here-tv-530-am-mondays-ch-115-altice-usa-public-access-tv/2025-12-15/
END:VEVENT
BEGIN:VEVENT
DTSTART;TZID=America/New_York:20251208T053000
DTEND;TZID=America/New_York:20251208T060000
DTSTAMP:20260424T125735
CREATED:20251010T183836Z
LAST-MODIFIED:20251010T183836Z
UID:31872-1765171800-1765173600@bridgeforpeace.org
SUMMARY:Hope Starts Here TV\, 5:30 am Mondays\, Ch. 115\, Altice USA Public Access TV
DESCRIPTION:Hope Starts Here Television Program Broadcast\nBroadcasted on Altice USA Public Access TV\, Ch. 115\, Mondays 5:30 am
URL:https://bridgeforpeace.org/event/hope-starts-here-tv-530-am-mondays-ch-115-altice-usa-public-access-tv/2025-12-08/
END:VEVENT
BEGIN:VEVENT
DTSTART;TZID=America/New_York:20251201T053000
DTEND;TZID=America/New_York:20251201T060000
DTSTAMP:20260424T125735
CREATED:20251010T183836Z
LAST-MODIFIED:20251010T183836Z
UID:31871-1764567000-1764568800@bridgeforpeace.org
SUMMARY:Hope Starts Here TV\, 5:30 am Mondays\, Ch. 115\, Altice USA Public Access TV
DESCRIPTION:Hope Starts Here Television Program Broadcast\nBroadcasted on Altice USA Public Access TV\, Ch. 115\, Mondays 5:30 am
URL:https://bridgeforpeace.org/event/hope-starts-here-tv-530-am-mondays-ch-115-altice-usa-public-access-tv/2025-12-01/
END:VEVENT
BEGIN:VEVENT
DTSTART;TZID=America/New_York:20251124T053000
DTEND;TZID=America/New_York:20251124T060000
DTSTAMP:20260424T125735
CREATED:20251010T183836Z
LAST-MODIFIED:20251010T183836Z
UID:31870-1763962200-1763964000@bridgeforpeace.org
SUMMARY:Hope Starts Here TV\, 5:30 am Mondays\, Ch. 115\, Altice USA Public Access TV
DESCRIPTION:Hope Starts Here Television Program Broadcast\nBroadcasted on Altice USA Public Access TV\, Ch. 115\, Mondays 5:30 am
URL:https://bridgeforpeace.org/event/hope-starts-here-tv-530-am-mondays-ch-115-altice-usa-public-access-tv/2025-11-24/
END:VEVENT
BEGIN:VEVENT
DTSTART;TZID=America/New_York:20251117T053000
DTEND;TZID=America/New_York:20251117T060000
DTSTAMP:20260424T125735
CREATED:20251010T183836Z
LAST-MODIFIED:20251010T183836Z
UID:31869-1763357400-1763359200@bridgeforpeace.org
SUMMARY:Hope Starts Here TV\, 5:30 am Mondays\, Ch. 115\, Altice USA Public Access TV
DESCRIPTION:Hope Starts Here Television Program Broadcast\nBroadcasted on Altice USA Public Access TV\, Ch. 115\, Mondays 5:30 am
URL:https://bridgeforpeace.org/event/hope-starts-here-tv-530-am-mondays-ch-115-altice-usa-public-access-tv/2025-11-17/
END:VEVENT
BEGIN:VEVENT
DTSTART;TZID=America/New_York:20251110T053000
DTEND;TZID=America/New_York:20251110T060000
DTSTAMP:20260424T125735
CREATED:20251010T183836Z
LAST-MODIFIED:20251010T183836Z
UID:31868-1762752600-1762754400@bridgeforpeace.org
SUMMARY:Hope Starts Here TV\, 5:30 am Mondays\, Ch. 115\, Altice USA Public Access TV
DESCRIPTION:Hope Starts Here Television Program Broadcast\nBroadcasted on Altice USA Public Access TV\, Ch. 115\, Mondays 5:30 am
URL:https://bridgeforpeace.org/event/hope-starts-here-tv-530-am-mondays-ch-115-altice-usa-public-access-tv/2025-11-10/
END:VEVENT
BEGIN:VEVENT
DTSTART;TZID=America/New_York:20251103T053000
DTEND;TZID=America/New_York:20251103T060000
DTSTAMP:20260424T125735
CREATED:20251010T183836Z
LAST-MODIFIED:20251010T183836Z
UID:31867-1762147800-1762149600@bridgeforpeace.org
SUMMARY:Hope Starts Here TV\, 5:30 am Mondays\, Ch. 115\, Altice USA Public Access TV
DESCRIPTION:Hope Starts Here Television Program Broadcast\nBroadcasted on Altice USA Public Access TV\, Ch. 115\, Mondays 5:30 am
URL:https://bridgeforpeace.org/event/hope-starts-here-tv-530-am-mondays-ch-115-altice-usa-public-access-tv/2025-11-03/
END:VEVENT
BEGIN:VEVENT
DTSTART;TZID=America/New_York:20251027T053000
DTEND;TZID=America/New_York:20251027T060000
DTSTAMP:20260424T125735
CREATED:20251010T183836Z
LAST-MODIFIED:20251010T183836Z
UID:31866-1761543000-1761544800@bridgeforpeace.org
SUMMARY:Hope Starts Here TV\, 5:30 am Mondays\, Ch. 115\, Altice USA Public Access TV
DESCRIPTION:Hope Starts Here Television Program Broadcast\nBroadcasted on Altice USA Public Access TV\, Ch. 115\, Mondays 5:30 am
URL:https://bridgeforpeace.org/event/hope-starts-here-tv-530-am-mondays-ch-115-altice-usa-public-access-tv/2025-10-27/
END:VEVENT
BEGIN:VEVENT
DTSTART;TZID=America/New_York:20251020T053000
DTEND;TZID=America/New_York:20251020T060000
DTSTAMP:20260424T125735
CREATED:20251010T183836Z
LAST-MODIFIED:20251010T183836Z
UID:31865-1760938200-1760940000@bridgeforpeace.org
SUMMARY:Hope Starts Here TV\, 5:30 am Mondays\, Ch. 115\, Altice USA Public Access TV
DESCRIPTION:Hope Starts Here Television Program Broadcast\nBroadcasted on Altice USA Public Access TV\, Ch. 115\, Mondays 5:30 am
URL:https://bridgeforpeace.org/event/hope-starts-here-tv-530-am-mondays-ch-115-altice-usa-public-access-tv/2025-10-20/
END:VEVENT
BEGIN:VEVENT
DTSTART;TZID=America/New_York:20251013T053000
DTEND;TZID=America/New_York:20251013T060000
DTSTAMP:20260424T125735
CREATED:20251010T183836Z
LAST-MODIFIED:20251010T183836Z
UID:31864-1760333400-1760335200@bridgeforpeace.org
SUMMARY:Hope Starts Here TV\, 5:30 am Mondays\, Ch. 115\, Altice USA Public Access TV
DESCRIPTION:Hope Starts Here Television Program Broadcast\nBroadcasted on Altice USA Public Access TV\, Ch. 115\, Mondays 5:30 am
URL:https://bridgeforpeace.org/event/hope-starts-here-tv-530-am-mondays-ch-115-altice-usa-public-access-tv/2025-10-13/
END:VEVENT
BEGIN:VEVENT
DTSTART;TZID=America/New_York:20251006T053000
DTEND;TZID=America/New_York:20251006T060000
DTSTAMP:20260424T125735
CREATED:20251010T183836Z
LAST-MODIFIED:20251010T183836Z
UID:31863-1759728600-1759730400@bridgeforpeace.org
SUMMARY:Hope Starts Here TV\, 5:30 am Mondays\, Ch. 115\, Altice USA Public Access TV
DESCRIPTION:Hope Starts Here Television Program Broadcast\nBroadcasted on Altice USA Public Access TV\, Ch. 115\, Mondays 5:30 am
URL:https://bridgeforpeace.org/event/hope-starts-here-tv-530-am-mondays-ch-115-altice-usa-public-access-tv/2025-10-06/
END:VEVENT
END:VCALENDAR