BEGIN:VCALENDAR
VERSION:2.0
PRODID:-//Bridge for Peace - ECPv6.15.20//NONSGML v1.0//EN
CALSCALE:GREGORIAN
METHOD:PUBLISH
X-ORIGINAL-URL:https://bridgeforpeace.org
X-WR-CALDESC:Events for Bridge for Peace
REFRESH-INTERVAL;VALUE=DURATION:PT1H
X-Robots-Tag:noindex
X-PUBLISHED-TTL:PT1H
BEGIN:VTIMEZONE
TZID:America/New_York
BEGIN:DAYLIGHT
TZOFFSETFROM:-0500
TZOFFSETTO:-0400
TZNAME:EDT
DTSTART:20250309T070000
END:DAYLIGHT
BEGIN:STANDARD
TZOFFSETFROM:-0400
TZOFFSETTO:-0500
TZNAME:EST
DTSTART:20251102T060000
END:STANDARD
BEGIN:DAYLIGHT
TZOFFSETFROM:-0500
TZOFFSETTO:-0400
TZNAME:EDT
DTSTART:20260308T070000
END:DAYLIGHT
BEGIN:STANDARD
TZOFFSETFROM:-0400
TZOFFSETTO:-0500
TZNAME:EST
DTSTART:20261101T060000
END:STANDARD
BEGIN:DAYLIGHT
TZOFFSETFROM:-0500
TZOFFSETTO:-0400
TZNAME:EDT
DTSTART:20270314T070000
END:DAYLIGHT
BEGIN:STANDARD
TZOFFSETFROM:-0400
TZOFFSETTO:-0500
TZNAME:EST
DTSTART:20271107T060000
END:STANDARD
END:VTIMEZONE
BEGIN:VEVENT
DTSTART;TZID=America/New_York:20260427T053000
DTEND;TZID=America/New_York:20260427T060000
DTSTAMP:20260424T043058
CREATED:20251010T183836Z
LAST-MODIFIED:20251010T183836Z
UID:31892-1777267800-1777269600@bridgeforpeace.org
SUMMARY:Hope Starts Here TV\, 5:30 am Mondays\, Ch. 115\, Altice USA Public Access TV
DESCRIPTION:Hope Starts Here Television Program Broadcast\nBroadcasted on Altice USA Public Access TV\, Ch. 115\, Mondays 5:30 am
URL:https://bridgeforpeace.org/event/hope-starts-here-tv-530-am-mondays-ch-115-altice-usa-public-access-tv/2026-04-27/
END:VEVENT
BEGIN:VEVENT
DTSTART;TZID=America/New_York:20260504T053000
DTEND;TZID=America/New_York:20260504T060000
DTSTAMP:20260424T043058
CREATED:20251010T183836Z
LAST-MODIFIED:20251010T183836Z
UID:31893-1777872600-1777874400@bridgeforpeace.org
SUMMARY:Hope Starts Here TV\, 5:30 am Mondays\, Ch. 115\, Altice USA Public Access TV
DESCRIPTION:Hope Starts Here Television Program Broadcast\nBroadcasted on Altice USA Public Access TV\, Ch. 115\, Mondays 5:30 am
URL:https://bridgeforpeace.org/event/hope-starts-here-tv-530-am-mondays-ch-115-altice-usa-public-access-tv/2026-05-04/
END:VEVENT
BEGIN:VEVENT
DTSTART;TZID=America/New_York:20260511T053000
DTEND;TZID=America/New_York:20260511T060000
DTSTAMP:20260424T043058
CREATED:20251010T183836Z
LAST-MODIFIED:20251010T183836Z
UID:31894-1778477400-1778479200@bridgeforpeace.org
SUMMARY:Hope Starts Here TV\, 5:30 am Mondays\, Ch. 115\, Altice USA Public Access TV
DESCRIPTION:Hope Starts Here Television Program Broadcast\nBroadcasted on Altice USA Public Access TV\, Ch. 115\, Mondays 5:30 am
URL:https://bridgeforpeace.org/event/hope-starts-here-tv-530-am-mondays-ch-115-altice-usa-public-access-tv/2026-05-11/
END:VEVENT
BEGIN:VEVENT
DTSTART;TZID=America/New_York:20260518T053000
DTEND;TZID=America/New_York:20260518T060000
DTSTAMP:20260424T043058
CREATED:20251010T183836Z
LAST-MODIFIED:20251010T183836Z
UID:31895-1779082200-1779084000@bridgeforpeace.org
SUMMARY:Hope Starts Here TV\, 5:30 am Mondays\, Ch. 115\, Altice USA Public Access TV
DESCRIPTION:Hope Starts Here Television Program Broadcast\nBroadcasted on Altice USA Public Access TV\, Ch. 115\, Mondays 5:30 am
URL:https://bridgeforpeace.org/event/hope-starts-here-tv-530-am-mondays-ch-115-altice-usa-public-access-tv/2026-05-18/
END:VEVENT
BEGIN:VEVENT
DTSTART;TZID=America/New_York:20260525T053000
DTEND;TZID=America/New_York:20260525T060000
DTSTAMP:20260424T043058
CREATED:20251010T183836Z
LAST-MODIFIED:20251010T183836Z
UID:31896-1779687000-1779688800@bridgeforpeace.org
SUMMARY:Hope Starts Here TV\, 5:30 am Mondays\, Ch. 115\, Altice USA Public Access TV
DESCRIPTION:Hope Starts Here Television Program Broadcast\nBroadcasted on Altice USA Public Access TV\, Ch. 115\, Mondays 5:30 am
URL:https://bridgeforpeace.org/event/hope-starts-here-tv-530-am-mondays-ch-115-altice-usa-public-access-tv/2026-05-25/
END:VEVENT
BEGIN:VEVENT
DTSTART;TZID=America/New_York:20260601T053000
DTEND;TZID=America/New_York:20260601T060000
DTSTAMP:20260424T043058
CREATED:20251010T183836Z
LAST-MODIFIED:20251010T183836Z
UID:31897-1780291800-1780293600@bridgeforpeace.org
SUMMARY:Hope Starts Here TV\, 5:30 am Mondays\, Ch. 115\, Altice USA Public Access TV
DESCRIPTION:Hope Starts Here Television Program Broadcast\nBroadcasted on Altice USA Public Access TV\, Ch. 115\, Mondays 5:30 am
URL:https://bridgeforpeace.org/event/hope-starts-here-tv-530-am-mondays-ch-115-altice-usa-public-access-tv/2026-06-01/
END:VEVENT
BEGIN:VEVENT
DTSTART;TZID=America/New_York:20260608T053000
DTEND;TZID=America/New_York:20260608T060000
DTSTAMP:20260424T043058
CREATED:20251010T183836Z
LAST-MODIFIED:20251010T183836Z
UID:31898-1780896600-1780898400@bridgeforpeace.org
SUMMARY:Hope Starts Here TV\, 5:30 am Mondays\, Ch. 115\, Altice USA Public Access TV
DESCRIPTION:Hope Starts Here Television Program Broadcast\nBroadcasted on Altice USA Public Access TV\, Ch. 115\, Mondays 5:30 am
URL:https://bridgeforpeace.org/event/hope-starts-here-tv-530-am-mondays-ch-115-altice-usa-public-access-tv/2026-06-08/
END:VEVENT
BEGIN:VEVENT
DTSTART;TZID=America/New_York:20260615T053000
DTEND;TZID=America/New_York:20260615T060000
DTSTAMP:20260424T043058
CREATED:20251010T183836Z
LAST-MODIFIED:20251010T183836Z
UID:31899-1781501400-1781503200@bridgeforpeace.org
SUMMARY:Hope Starts Here TV\, 5:30 am Mondays\, Ch. 115\, Altice USA Public Access TV
DESCRIPTION:Hope Starts Here Television Program Broadcast\nBroadcasted on Altice USA Public Access TV\, Ch. 115\, Mondays 5:30 am
URL:https://bridgeforpeace.org/event/hope-starts-here-tv-530-am-mondays-ch-115-altice-usa-public-access-tv/2026-06-15/
END:VEVENT
BEGIN:VEVENT
DTSTART;TZID=America/New_York:20260622T053000
DTEND;TZID=America/New_York:20260622T060000
DTSTAMP:20260424T043058
CREATED:20251010T183836Z
LAST-MODIFIED:20251010T183836Z
UID:31900-1782106200-1782108000@bridgeforpeace.org
SUMMARY:Hope Starts Here TV\, 5:30 am Mondays\, Ch. 115\, Altice USA Public Access TV
DESCRIPTION:Hope Starts Here Television Program Broadcast\nBroadcasted on Altice USA Public Access TV\, Ch. 115\, Mondays 5:30 am
URL:https://bridgeforpeace.org/event/hope-starts-here-tv-530-am-mondays-ch-115-altice-usa-public-access-tv/2026-06-22/
END:VEVENT
BEGIN:VEVENT
DTSTART;TZID=America/New_York:20260629T053000
DTEND;TZID=America/New_York:20260629T060000
DTSTAMP:20260424T043058
CREATED:20251010T183836Z
LAST-MODIFIED:20251010T183836Z
UID:31901-1782711000-1782712800@bridgeforpeace.org
SUMMARY:Hope Starts Here TV\, 5:30 am Mondays\, Ch. 115\, Altice USA Public Access TV
DESCRIPTION:Hope Starts Here Television Program Broadcast\nBroadcasted on Altice USA Public Access TV\, Ch. 115\, Mondays 5:30 am
URL:https://bridgeforpeace.org/event/hope-starts-here-tv-530-am-mondays-ch-115-altice-usa-public-access-tv/2026-06-29/
END:VEVENT
BEGIN:VEVENT
DTSTART;TZID=America/New_York:20260706T053000
DTEND;TZID=America/New_York:20260706T060000
DTSTAMP:20260424T043058
CREATED:20251010T183836Z
LAST-MODIFIED:20251010T183836Z
UID:31902-1783315800-1783317600@bridgeforpeace.org
SUMMARY:Hope Starts Here TV\, 5:30 am Mondays\, Ch. 115\, Altice USA Public Access TV
DESCRIPTION:Hope Starts Here Television Program Broadcast\nBroadcasted on Altice USA Public Access TV\, Ch. 115\, Mondays 5:30 am
URL:https://bridgeforpeace.org/event/hope-starts-here-tv-530-am-mondays-ch-115-altice-usa-public-access-tv/2026-07-06/
END:VEVENT
BEGIN:VEVENT
DTSTART;TZID=America/New_York:20260713T053000
DTEND;TZID=America/New_York:20260713T060000
DTSTAMP:20260424T043058
CREATED:20251010T183836Z
LAST-MODIFIED:20251010T183836Z
UID:31903-1783920600-1783922400@bridgeforpeace.org
SUMMARY:Hope Starts Here TV\, 5:30 am Mondays\, Ch. 115\, Altice USA Public Access TV
DESCRIPTION:Hope Starts Here Television Program Broadcast\nBroadcasted on Altice USA Public Access TV\, Ch. 115\, Mondays 5:30 am
URL:https://bridgeforpeace.org/event/hope-starts-here-tv-530-am-mondays-ch-115-altice-usa-public-access-tv/2026-07-13/
END:VEVENT
BEGIN:VEVENT
DTSTART;TZID=America/New_York:20260720T053000
DTEND;TZID=America/New_York:20260720T060000
DTSTAMP:20260424T043058
CREATED:20251010T183836Z
LAST-MODIFIED:20251010T183836Z
UID:31904-1784525400-1784527200@bridgeforpeace.org
SUMMARY:Hope Starts Here TV\, 5:30 am Mondays\, Ch. 115\, Altice USA Public Access TV
DESCRIPTION:Hope Starts Here Television Program Broadcast\nBroadcasted on Altice USA Public Access TV\, Ch. 115\, Mondays 5:30 am
URL:https://bridgeforpeace.org/event/hope-starts-here-tv-530-am-mondays-ch-115-altice-usa-public-access-tv/2026-07-20/
END:VEVENT
BEGIN:VEVENT
DTSTART;TZID=America/New_York:20260727T053000
DTEND;TZID=America/New_York:20260727T060000
DTSTAMP:20260424T043058
CREATED:20251010T183836Z
LAST-MODIFIED:20251010T183836Z
UID:31905-1785130200-1785132000@bridgeforpeace.org
SUMMARY:Hope Starts Here TV\, 5:30 am Mondays\, Ch. 115\, Altice USA Public Access TV
DESCRIPTION:Hope Starts Here Television Program Broadcast\nBroadcasted on Altice USA Public Access TV\, Ch. 115\, Mondays 5:30 am
URL:https://bridgeforpeace.org/event/hope-starts-here-tv-530-am-mondays-ch-115-altice-usa-public-access-tv/2026-07-27/
END:VEVENT
BEGIN:VEVENT
DTSTART;TZID=America/New_York:20260803T053000
DTEND;TZID=America/New_York:20260803T060000
DTSTAMP:20260424T043058
CREATED:20251010T183836Z
LAST-MODIFIED:20251010T183836Z
UID:31906-1785735000-1785736800@bridgeforpeace.org
SUMMARY:Hope Starts Here TV\, 5:30 am Mondays\, Ch. 115\, Altice USA Public Access TV
DESCRIPTION:Hope Starts Here Television Program Broadcast\nBroadcasted on Altice USA Public Access TV\, Ch. 115\, Mondays 5:30 am
URL:https://bridgeforpeace.org/event/hope-starts-here-tv-530-am-mondays-ch-115-altice-usa-public-access-tv/2026-08-03/
END:VEVENT
BEGIN:VEVENT
DTSTART;TZID=America/New_York:20260810T053000
DTEND;TZID=America/New_York:20260810T060000
DTSTAMP:20260424T043058
CREATED:20251010T183836Z
LAST-MODIFIED:20251010T183836Z
UID:31907-1786339800-1786341600@bridgeforpeace.org
SUMMARY:Hope Starts Here TV\, 5:30 am Mondays\, Ch. 115\, Altice USA Public Access TV
DESCRIPTION:Hope Starts Here Television Program Broadcast\nBroadcasted on Altice USA Public Access TV\, Ch. 115\, Mondays 5:30 am
URL:https://bridgeforpeace.org/event/hope-starts-here-tv-530-am-mondays-ch-115-altice-usa-public-access-tv/2026-08-10/
END:VEVENT
BEGIN:VEVENT
DTSTART;TZID=America/New_York:20260817T053000
DTEND;TZID=America/New_York:20260817T060000
DTSTAMP:20260424T043058
CREATED:20251010T183836Z
LAST-MODIFIED:20251010T183836Z
UID:31908-1786944600-1786946400@bridgeforpeace.org
SUMMARY:Hope Starts Here TV\, 5:30 am Mondays\, Ch. 115\, Altice USA Public Access TV
DESCRIPTION:Hope Starts Here Television Program Broadcast\nBroadcasted on Altice USA Public Access TV\, Ch. 115\, Mondays 5:30 am
URL:https://bridgeforpeace.org/event/hope-starts-here-tv-530-am-mondays-ch-115-altice-usa-public-access-tv/2026-08-17/
END:VEVENT
BEGIN:VEVENT
DTSTART;TZID=America/New_York:20260824T053000
DTEND;TZID=America/New_York:20260824T060000
DTSTAMP:20260424T043058
CREATED:20251010T183836Z
LAST-MODIFIED:20251010T183836Z
UID:31909-1787549400-1787551200@bridgeforpeace.org
SUMMARY:Hope Starts Here TV\, 5:30 am Mondays\, Ch. 115\, Altice USA Public Access TV
DESCRIPTION:Hope Starts Here Television Program Broadcast\nBroadcasted on Altice USA Public Access TV\, Ch. 115\, Mondays 5:30 am
URL:https://bridgeforpeace.org/event/hope-starts-here-tv-530-am-mondays-ch-115-altice-usa-public-access-tv/2026-08-24/
END:VEVENT
BEGIN:VEVENT
DTSTART;TZID=America/New_York:20260831T053000
DTEND;TZID=America/New_York:20260831T060000
DTSTAMP:20260424T043058
CREATED:20251010T183836Z
LAST-MODIFIED:20251010T183836Z
UID:31910-1788154200-1788156000@bridgeforpeace.org
SUMMARY:Hope Starts Here TV\, 5:30 am Mondays\, Ch. 115\, Altice USA Public Access TV
DESCRIPTION:Hope Starts Here Television Program Broadcast\nBroadcasted on Altice USA Public Access TV\, Ch. 115\, Mondays 5:30 am
URL:https://bridgeforpeace.org/event/hope-starts-here-tv-530-am-mondays-ch-115-altice-usa-public-access-tv/2026-08-31/
END:VEVENT
BEGIN:VEVENT
DTSTART;TZID=America/New_York:20260907T053000
DTEND;TZID=America/New_York:20260907T060000
DTSTAMP:20260424T043058
CREATED:20251010T183836Z
LAST-MODIFIED:20251010T183836Z
UID:31911-1788759000-1788760800@bridgeforpeace.org
SUMMARY:Hope Starts Here TV\, 5:30 am Mondays\, Ch. 115\, Altice USA Public Access TV
DESCRIPTION:Hope Starts Here Television Program Broadcast\nBroadcasted on Altice USA Public Access TV\, Ch. 115\, Mondays 5:30 am
URL:https://bridgeforpeace.org/event/hope-starts-here-tv-530-am-mondays-ch-115-altice-usa-public-access-tv/2026-09-07/
END:VEVENT
BEGIN:VEVENT
DTSTART;TZID=America/New_York:20260914T053000
DTEND;TZID=America/New_York:20260914T060000
DTSTAMP:20260424T043058
CREATED:20251010T183836Z
LAST-MODIFIED:20251010T183836Z
UID:31912-1789363800-1789365600@bridgeforpeace.org
SUMMARY:Hope Starts Here TV\, 5:30 am Mondays\, Ch. 115\, Altice USA Public Access TV
DESCRIPTION:Hope Starts Here Television Program Broadcast\nBroadcasted on Altice USA Public Access TV\, Ch. 115\, Mondays 5:30 am
URL:https://bridgeforpeace.org/event/hope-starts-here-tv-530-am-mondays-ch-115-altice-usa-public-access-tv/2026-09-14/
END:VEVENT
BEGIN:VEVENT
DTSTART;TZID=America/New_York:20260921T053000
DTEND;TZID=America/New_York:20260921T060000
DTSTAMP:20260424T043058
CREATED:20251010T183836Z
LAST-MODIFIED:20251010T183836Z
UID:31913-1789968600-1789970400@bridgeforpeace.org
SUMMARY:Hope Starts Here TV\, 5:30 am Mondays\, Ch. 115\, Altice USA Public Access TV
DESCRIPTION:Hope Starts Here Television Program Broadcast\nBroadcasted on Altice USA Public Access TV\, Ch. 115\, Mondays 5:30 am
URL:https://bridgeforpeace.org/event/hope-starts-here-tv-530-am-mondays-ch-115-altice-usa-public-access-tv/2026-09-21/
END:VEVENT
BEGIN:VEVENT
DTSTART;TZID=America/New_York:20260928T053000
DTEND;TZID=America/New_York:20260928T060000
DTSTAMP:20260424T043058
CREATED:20251010T183836Z
LAST-MODIFIED:20251010T183836Z
UID:31914-1790573400-1790575200@bridgeforpeace.org
SUMMARY:Hope Starts Here TV\, 5:30 am Mondays\, Ch. 115\, Altice USA Public Access TV
DESCRIPTION:Hope Starts Here Television Program Broadcast\nBroadcasted on Altice USA Public Access TV\, Ch. 115\, Mondays 5:30 am
URL:https://bridgeforpeace.org/event/hope-starts-here-tv-530-am-mondays-ch-115-altice-usa-public-access-tv/2026-09-28/
END:VEVENT
END:VCALENDAR