BEGIN:VCALENDAR
VERSION:2.0
PRODID:-//Bridge for Peace - ECPv6.15.20//NONSGML v1.0//EN
CALSCALE:GREGORIAN
METHOD:PUBLISH
X-ORIGINAL-URL:https://bridgeforpeace.org
X-WR-CALDESC:Events for Bridge for Peace
REFRESH-INTERVAL;VALUE=DURATION:PT1H
X-Robots-Tag:noindex
X-PUBLISHED-TTL:PT1H
BEGIN:VTIMEZONE
TZID:America/New_York
BEGIN:DAYLIGHT
TZOFFSETFROM:-0500
TZOFFSETTO:-0400
TZNAME:EDT
DTSTART:20250309T070000
END:DAYLIGHT
BEGIN:STANDARD
TZOFFSETFROM:-0400
TZOFFSETTO:-0500
TZNAME:EST
DTSTART:20251102T060000
END:STANDARD
BEGIN:DAYLIGHT
TZOFFSETFROM:-0500
TZOFFSETTO:-0400
TZNAME:EDT
DTSTART:20260308T070000
END:DAYLIGHT
BEGIN:STANDARD
TZOFFSETFROM:-0400
TZOFFSETTO:-0500
TZNAME:EST
DTSTART:20261101T060000
END:STANDARD
BEGIN:DAYLIGHT
TZOFFSETFROM:-0500
TZOFFSETTO:-0400
TZNAME:EDT
DTSTART:20270314T070000
END:DAYLIGHT
BEGIN:STANDARD
TZOFFSETFROM:-0400
TZOFFSETTO:-0500
TZNAME:EST
DTSTART:20271107T060000
END:STANDARD
END:VTIMEZONE
BEGIN:VEVENT
DTSTART;TZID=America/New_York:20260812T053000
DTEND;TZID=America/New_York:20260812T060000
DTSTAMP:20260420T150029
CREATED:20251010T184743Z
LAST-MODIFIED:20251010T184743Z
UID:31960-1786512600-1786514400@bridgeforpeace.org
SUMMARY:Hope Starts Here TV\, 5:30 am Wednesdays\, Ch. 115\, Altice USA Public Access TV
DESCRIPTION:Hope Starts Here Television Program Broadcast\nBroadcasted on Altice USA Public Access TV\, Ch. 115\, Wednesdays 5:30 am
URL:https://bridgeforpeace.org/event/hope-starts-here-tv-530-am-wednesdays-ch-115-altice-usa-public-access-tv/2026-08-12/
END:VEVENT
BEGIN:VEVENT
DTSTART;TZID=America/New_York:20260817T050000
DTEND;TZID=America/New_York:20260817T053000
DTSTAMP:20260420T150029
CREATED:20251010T175119Z
LAST-MODIFIED:20251010T175119Z
UID:31815-1786942800-1786944600@bridgeforpeace.org
SUMMARY:B4PTV\, 5:00 am Mondays\, Ch. 115\, Public Access TV
DESCRIPTION:Bridge for Peace Television Program Broadcast\nBroadcasted on Public Access TV\, Ch. 115\, Mondays 5:00 am
URL:https://bridgeforpeace.org/event/b4ptv-500-am-mondays-ch-115-public-access-tv/2026-08-17/
END:VEVENT
BEGIN:VEVENT
DTSTART;TZID=America/New_York:20260817T053000
DTEND;TZID=America/New_York:20260817T060000
DTSTAMP:20260420T150029
CREATED:20251010T183836Z
LAST-MODIFIED:20251010T183836Z
UID:31908-1786944600-1786946400@bridgeforpeace.org
SUMMARY:Hope Starts Here TV\, 5:30 am Mondays\, Ch. 115\, Altice USA Public Access TV
DESCRIPTION:Hope Starts Here Television Program Broadcast\nBroadcasted on Altice USA Public Access TV\, Ch. 115\, Mondays 5:30 am
URL:https://bridgeforpeace.org/event/hope-starts-here-tv-530-am-mondays-ch-115-altice-usa-public-access-tv/2026-08-17/
END:VEVENT
BEGIN:VEVENT
DTSTART;TZID=America/New_York:20260818T073000
DTEND;TZID=America/New_York:20260818T080000
DTSTAMP:20260420T150029
CREATED:20251008T153830Z
LAST-MODIFIED:20251008T153830Z
UID:31731-1787038200-1787040000@bridgeforpeace.org
SUMMARY:Hope Starts Here TV\, 7:30 am Tuesdays\, Ch. 20\, Altice USA Public Access TV
DESCRIPTION:Hope Starts Here Television Program Broadcast\nBroadcasted on Altice USA Public Access TV\, Ch. 20\, Tuesdays 7:30 am
URL:https://bridgeforpeace.org/event/hope-starts-here-tv-730-am-tuesdays-ch-20-altice-usa-public-access-tv/2026-08-18/
END:VEVENT
BEGIN:VEVENT
DTSTART;TZID=America/New_York:20260818T080000
DTEND;TZID=America/New_York:20260818T083000
DTSTAMP:20260420T150029
CREATED:20251008T154546Z
LAST-MODIFIED:20251008T154546Z
UID:31700-1787040000-1787041800@bridgeforpeace.org
SUMMARY:B4PTV\, 8:00 am Tuesdays\, Ch. 20\, Public Access TV
DESCRIPTION:Bridge for Peace Television Program Broadcast\nBroadcasted on Public Access TV\, Ch. 20\, Tuesdays 8:00 am
URL:https://bridgeforpeace.org/event/b4ptv-800-am-tuesdays-ch-20-public-access-tv-5/2026-08-18/
END:VEVENT
BEGIN:VEVENT
DTSTART;TZID=America/New_York:20260819T053000
DTEND;TZID=America/New_York:20260819T060000
DTSTAMP:20260420T150029
CREATED:20251010T184743Z
LAST-MODIFIED:20251010T184743Z
UID:31961-1787117400-1787119200@bridgeforpeace.org
SUMMARY:Hope Starts Here TV\, 5:30 am Wednesdays\, Ch. 115\, Altice USA Public Access TV
DESCRIPTION:Hope Starts Here Television Program Broadcast\nBroadcasted on Altice USA Public Access TV\, Ch. 115\, Wednesdays 5:30 am
URL:https://bridgeforpeace.org/event/hope-starts-here-tv-530-am-wednesdays-ch-115-altice-usa-public-access-tv/2026-08-19/
END:VEVENT
BEGIN:VEVENT
DTSTART;TZID=America/New_York:20260824T050000
DTEND;TZID=America/New_York:20260824T053000
DTSTAMP:20260420T150029
CREATED:20251010T175119Z
LAST-MODIFIED:20251010T175119Z
UID:31816-1787547600-1787549400@bridgeforpeace.org
SUMMARY:B4PTV\, 5:00 am Mondays\, Ch. 115\, Public Access TV
DESCRIPTION:Bridge for Peace Television Program Broadcast\nBroadcasted on Public Access TV\, Ch. 115\, Mondays 5:00 am
URL:https://bridgeforpeace.org/event/b4ptv-500-am-mondays-ch-115-public-access-tv/2026-08-24/
END:VEVENT
BEGIN:VEVENT
DTSTART;TZID=America/New_York:20260824T053000
DTEND;TZID=America/New_York:20260824T060000
DTSTAMP:20260420T150029
CREATED:20251010T183836Z
LAST-MODIFIED:20251010T183836Z
UID:31909-1787549400-1787551200@bridgeforpeace.org
SUMMARY:Hope Starts Here TV\, 5:30 am Mondays\, Ch. 115\, Altice USA Public Access TV
DESCRIPTION:Hope Starts Here Television Program Broadcast\nBroadcasted on Altice USA Public Access TV\, Ch. 115\, Mondays 5:30 am
URL:https://bridgeforpeace.org/event/hope-starts-here-tv-530-am-mondays-ch-115-altice-usa-public-access-tv/2026-08-24/
END:VEVENT
BEGIN:VEVENT
DTSTART;TZID=America/New_York:20260824T153000
DTEND;TZID=America/New_York:20260824T163000
DTSTAMP:20260420T150029
CREATED:20251010T172848Z
LAST-MODIFIED:20251010T172848Z
UID:31767-1787585400-1787589000@bridgeforpeace.org
SUMMARY:BFP TV\, Manhattan Cable MNN (NYC) 3:30 pm every other Monday
DESCRIPTION:B4P TV\, Manhattan Cable MNN (NYC) 3:30 pm every other Monday \nClick here to view \n  \n\n 
URL:https://bridgeforpeace.org/event/bfp-tv-manhattan-cable-mnn-nyc-330-pm-every-other-monday-2/2026-08-24/
END:VEVENT
BEGIN:VEVENT
DTSTART;TZID=America/New_York:20260825T073000
DTEND;TZID=America/New_York:20260825T080000
DTSTAMP:20260420T150029
CREATED:20251008T153830Z
LAST-MODIFIED:20251008T153830Z
UID:31732-1787643000-1787644800@bridgeforpeace.org
SUMMARY:Hope Starts Here TV\, 7:30 am Tuesdays\, Ch. 20\, Altice USA Public Access TV
DESCRIPTION:Hope Starts Here Television Program Broadcast\nBroadcasted on Altice USA Public Access TV\, Ch. 20\, Tuesdays 7:30 am
URL:https://bridgeforpeace.org/event/hope-starts-here-tv-730-am-tuesdays-ch-20-altice-usa-public-access-tv/2026-08-25/
END:VEVENT
BEGIN:VEVENT
DTSTART;TZID=America/New_York:20260825T080000
DTEND;TZID=America/New_York:20260825T083000
DTSTAMP:20260420T150029
CREATED:20251008T154546Z
LAST-MODIFIED:20251008T154546Z
UID:31701-1787644800-1787646600@bridgeforpeace.org
SUMMARY:B4PTV\, 8:00 am Tuesdays\, Ch. 20\, Public Access TV
DESCRIPTION:Bridge for Peace Television Program Broadcast\nBroadcasted on Public Access TV\, Ch. 20\, Tuesdays 8:00 am
URL:https://bridgeforpeace.org/event/b4ptv-800-am-tuesdays-ch-20-public-access-tv-5/2026-08-25/
END:VEVENT
BEGIN:VEVENT
DTSTART;TZID=America/New_York:20260826T053000
DTEND;TZID=America/New_York:20260826T060000
DTSTAMP:20260420T150029
CREATED:20251010T184743Z
LAST-MODIFIED:20251010T184743Z
UID:31962-1787722200-1787724000@bridgeforpeace.org
SUMMARY:Hope Starts Here TV\, 5:30 am Wednesdays\, Ch. 115\, Altice USA Public Access TV
DESCRIPTION:Hope Starts Here Television Program Broadcast\nBroadcasted on Altice USA Public Access TV\, Ch. 115\, Wednesdays 5:30 am
URL:https://bridgeforpeace.org/event/hope-starts-here-tv-530-am-wednesdays-ch-115-altice-usa-public-access-tv/2026-08-26/
END:VEVENT
BEGIN:VEVENT
DTSTART;TZID=America/New_York:20260831T050000
DTEND;TZID=America/New_York:20260831T053000
DTSTAMP:20260420T150029
CREATED:20251010T175119Z
LAST-MODIFIED:20251010T175119Z
UID:31817-1788152400-1788154200@bridgeforpeace.org
SUMMARY:B4PTV\, 5:00 am Mondays\, Ch. 115\, Public Access TV
DESCRIPTION:Bridge for Peace Television Program Broadcast\nBroadcasted on Public Access TV\, Ch. 115\, Mondays 5:00 am
URL:https://bridgeforpeace.org/event/b4ptv-500-am-mondays-ch-115-public-access-tv/2026-08-31/
END:VEVENT
BEGIN:VEVENT
DTSTART;TZID=America/New_York:20260831T053000
DTEND;TZID=America/New_York:20260831T060000
DTSTAMP:20260420T150029
CREATED:20251010T183836Z
LAST-MODIFIED:20251010T183836Z
UID:31910-1788154200-1788156000@bridgeforpeace.org
SUMMARY:Hope Starts Here TV\, 5:30 am Mondays\, Ch. 115\, Altice USA Public Access TV
DESCRIPTION:Hope Starts Here Television Program Broadcast\nBroadcasted on Altice USA Public Access TV\, Ch. 115\, Mondays 5:30 am
URL:https://bridgeforpeace.org/event/hope-starts-here-tv-530-am-mondays-ch-115-altice-usa-public-access-tv/2026-08-31/
END:VEVENT
BEGIN:VEVENT
DTSTART;TZID=America/New_York:20260901T073000
DTEND;TZID=America/New_York:20260901T080000
DTSTAMP:20260420T150029
CREATED:20251008T153830Z
LAST-MODIFIED:20251008T153830Z
UID:31733-1788247800-1788249600@bridgeforpeace.org
SUMMARY:Hope Starts Here TV\, 7:30 am Tuesdays\, Ch. 20\, Altice USA Public Access TV
DESCRIPTION:Hope Starts Here Television Program Broadcast\nBroadcasted on Altice USA Public Access TV\, Ch. 20\, Tuesdays 7:30 am
URL:https://bridgeforpeace.org/event/hope-starts-here-tv-730-am-tuesdays-ch-20-altice-usa-public-access-tv/2026-09-01/
END:VEVENT
BEGIN:VEVENT
DTSTART;TZID=America/New_York:20260901T080000
DTEND;TZID=America/New_York:20260901T083000
DTSTAMP:20260420T150029
CREATED:20251008T154546Z
LAST-MODIFIED:20251008T154546Z
UID:31702-1788249600-1788251400@bridgeforpeace.org
SUMMARY:B4PTV\, 8:00 am Tuesdays\, Ch. 20\, Public Access TV
DESCRIPTION:Bridge for Peace Television Program Broadcast\nBroadcasted on Public Access TV\, Ch. 20\, Tuesdays 8:00 am
URL:https://bridgeforpeace.org/event/b4ptv-800-am-tuesdays-ch-20-public-access-tv-5/2026-09-01/
END:VEVENT
BEGIN:VEVENT
DTSTART;TZID=America/New_York:20260902T053000
DTEND;TZID=America/New_York:20260902T060000
DTSTAMP:20260420T150029
CREATED:20251010T184743Z
LAST-MODIFIED:20251010T184743Z
UID:31963-1788327000-1788328800@bridgeforpeace.org
SUMMARY:Hope Starts Here TV\, 5:30 am Wednesdays\, Ch. 115\, Altice USA Public Access TV
DESCRIPTION:Hope Starts Here Television Program Broadcast\nBroadcasted on Altice USA Public Access TV\, Ch. 115\, Wednesdays 5:30 am
URL:https://bridgeforpeace.org/event/hope-starts-here-tv-530-am-wednesdays-ch-115-altice-usa-public-access-tv/2026-09-02/
END:VEVENT
BEGIN:VEVENT
DTSTART;TZID=America/New_York:20260907T050000
DTEND;TZID=America/New_York:20260907T053000
DTSTAMP:20260420T150029
CREATED:20251010T175119Z
LAST-MODIFIED:20251010T175119Z
UID:31818-1788757200-1788759000@bridgeforpeace.org
SUMMARY:B4PTV\, 5:00 am Mondays\, Ch. 115\, Public Access TV
DESCRIPTION:Bridge for Peace Television Program Broadcast\nBroadcasted on Public Access TV\, Ch. 115\, Mondays 5:00 am
URL:https://bridgeforpeace.org/event/b4ptv-500-am-mondays-ch-115-public-access-tv/2026-09-07/
END:VEVENT
BEGIN:VEVENT
DTSTART;TZID=America/New_York:20260907T053000
DTEND;TZID=America/New_York:20260907T060000
DTSTAMP:20260420T150029
CREATED:20251010T183836Z
LAST-MODIFIED:20251010T183836Z
UID:31911-1788759000-1788760800@bridgeforpeace.org
SUMMARY:Hope Starts Here TV\, 5:30 am Mondays\, Ch. 115\, Altice USA Public Access TV
DESCRIPTION:Hope Starts Here Television Program Broadcast\nBroadcasted on Altice USA Public Access TV\, Ch. 115\, Mondays 5:30 am
URL:https://bridgeforpeace.org/event/hope-starts-here-tv-530-am-mondays-ch-115-altice-usa-public-access-tv/2026-09-07/
END:VEVENT
BEGIN:VEVENT
DTSTART;TZID=America/New_York:20260907T153000
DTEND;TZID=America/New_York:20260907T163000
DTSTAMP:20260420T150029
CREATED:20251010T172848Z
LAST-MODIFIED:20251010T172848Z
UID:31768-1788795000-1788798600@bridgeforpeace.org
SUMMARY:BFP TV\, Manhattan Cable MNN (NYC) 3:30 pm every other Monday
DESCRIPTION:B4P TV\, Manhattan Cable MNN (NYC) 3:30 pm every other Monday \nClick here to view \n  \n\n 
URL:https://bridgeforpeace.org/event/bfp-tv-manhattan-cable-mnn-nyc-330-pm-every-other-monday-2/2026-09-07/
END:VEVENT
BEGIN:VEVENT
DTSTART;TZID=America/New_York:20260908T073000
DTEND;TZID=America/New_York:20260908T080000
DTSTAMP:20260420T150029
CREATED:20251008T153830Z
LAST-MODIFIED:20251008T153830Z
UID:31734-1788852600-1788854400@bridgeforpeace.org
SUMMARY:Hope Starts Here TV\, 7:30 am Tuesdays\, Ch. 20\, Altice USA Public Access TV
DESCRIPTION:Hope Starts Here Television Program Broadcast\nBroadcasted on Altice USA Public Access TV\, Ch. 20\, Tuesdays 7:30 am
URL:https://bridgeforpeace.org/event/hope-starts-here-tv-730-am-tuesdays-ch-20-altice-usa-public-access-tv/2026-09-08/
END:VEVENT
BEGIN:VEVENT
DTSTART;TZID=America/New_York:20260908T080000
DTEND;TZID=America/New_York:20260908T083000
DTSTAMP:20260420T150029
CREATED:20251008T154546Z
LAST-MODIFIED:20251008T154546Z
UID:31703-1788854400-1788856200@bridgeforpeace.org
SUMMARY:B4PTV\, 8:00 am Tuesdays\, Ch. 20\, Public Access TV
DESCRIPTION:Bridge for Peace Television Program Broadcast\nBroadcasted on Public Access TV\, Ch. 20\, Tuesdays 8:00 am
URL:https://bridgeforpeace.org/event/b4ptv-800-am-tuesdays-ch-20-public-access-tv-5/2026-09-08/
END:VEVENT
BEGIN:VEVENT
DTSTART;TZID=America/New_York:20260909T053000
DTEND;TZID=America/New_York:20260909T060000
DTSTAMP:20260420T150029
CREATED:20251010T184743Z
LAST-MODIFIED:20251010T184743Z
UID:31964-1788931800-1788933600@bridgeforpeace.org
SUMMARY:Hope Starts Here TV\, 5:30 am Wednesdays\, Ch. 115\, Altice USA Public Access TV
DESCRIPTION:Hope Starts Here Television Program Broadcast\nBroadcasted on Altice USA Public Access TV\, Ch. 115\, Wednesdays 5:30 am
URL:https://bridgeforpeace.org/event/hope-starts-here-tv-530-am-wednesdays-ch-115-altice-usa-public-access-tv/2026-09-09/
END:VEVENT
BEGIN:VEVENT
DTSTART;TZID=America/New_York:20260914T050000
DTEND;TZID=America/New_York:20260914T053000
DTSTAMP:20260420T150029
CREATED:20251010T175119Z
LAST-MODIFIED:20251010T175119Z
UID:31819-1789362000-1789363800@bridgeforpeace.org
SUMMARY:B4PTV\, 5:00 am Mondays\, Ch. 115\, Public Access TV
DESCRIPTION:Bridge for Peace Television Program Broadcast\nBroadcasted on Public Access TV\, Ch. 115\, Mondays 5:00 am
URL:https://bridgeforpeace.org/event/b4ptv-500-am-mondays-ch-115-public-access-tv/2026-09-14/
END:VEVENT
BEGIN:VEVENT
DTSTART;TZID=America/New_York:20260914T053000
DTEND;TZID=America/New_York:20260914T060000
DTSTAMP:20260420T150029
CREATED:20251010T183836Z
LAST-MODIFIED:20251010T183836Z
UID:31912-1789363800-1789365600@bridgeforpeace.org
SUMMARY:Hope Starts Here TV\, 5:30 am Mondays\, Ch. 115\, Altice USA Public Access TV
DESCRIPTION:Hope Starts Here Television Program Broadcast\nBroadcasted on Altice USA Public Access TV\, Ch. 115\, Mondays 5:30 am
URL:https://bridgeforpeace.org/event/hope-starts-here-tv-530-am-mondays-ch-115-altice-usa-public-access-tv/2026-09-14/
END:VEVENT
BEGIN:VEVENT
DTSTART;TZID=America/New_York:20260915T073000
DTEND;TZID=America/New_York:20260915T080000
DTSTAMP:20260420T150029
CREATED:20251008T153830Z
LAST-MODIFIED:20251008T153830Z
UID:31735-1789457400-1789459200@bridgeforpeace.org
SUMMARY:Hope Starts Here TV\, 7:30 am Tuesdays\, Ch. 20\, Altice USA Public Access TV
DESCRIPTION:Hope Starts Here Television Program Broadcast\nBroadcasted on Altice USA Public Access TV\, Ch. 20\, Tuesdays 7:30 am
URL:https://bridgeforpeace.org/event/hope-starts-here-tv-730-am-tuesdays-ch-20-altice-usa-public-access-tv/2026-09-15/
END:VEVENT
BEGIN:VEVENT
DTSTART;TZID=America/New_York:20260915T080000
DTEND;TZID=America/New_York:20260915T083000
DTSTAMP:20260420T150029
CREATED:20251008T154546Z
LAST-MODIFIED:20251008T154546Z
UID:31704-1789459200-1789461000@bridgeforpeace.org
SUMMARY:B4PTV\, 8:00 am Tuesdays\, Ch. 20\, Public Access TV
DESCRIPTION:Bridge for Peace Television Program Broadcast\nBroadcasted on Public Access TV\, Ch. 20\, Tuesdays 8:00 am
URL:https://bridgeforpeace.org/event/b4ptv-800-am-tuesdays-ch-20-public-access-tv-5/2026-09-15/
END:VEVENT
BEGIN:VEVENT
DTSTART;TZID=America/New_York:20260916T053000
DTEND;TZID=America/New_York:20260916T060000
DTSTAMP:20260420T150029
CREATED:20251010T184743Z
LAST-MODIFIED:20251010T184743Z
UID:31965-1789536600-1789538400@bridgeforpeace.org
SUMMARY:Hope Starts Here TV\, 5:30 am Wednesdays\, Ch. 115\, Altice USA Public Access TV
DESCRIPTION:Hope Starts Here Television Program Broadcast\nBroadcasted on Altice USA Public Access TV\, Ch. 115\, Wednesdays 5:30 am
URL:https://bridgeforpeace.org/event/hope-starts-here-tv-530-am-wednesdays-ch-115-altice-usa-public-access-tv/2026-09-16/
END:VEVENT
BEGIN:VEVENT
DTSTART;TZID=America/New_York:20260921T050000
DTEND;TZID=America/New_York:20260921T053000
DTSTAMP:20260420T150029
CREATED:20251010T175119Z
LAST-MODIFIED:20251010T175119Z
UID:31820-1789966800-1789968600@bridgeforpeace.org
SUMMARY:B4PTV\, 5:00 am Mondays\, Ch. 115\, Public Access TV
DESCRIPTION:Bridge for Peace Television Program Broadcast\nBroadcasted on Public Access TV\, Ch. 115\, Mondays 5:00 am
URL:https://bridgeforpeace.org/event/b4ptv-500-am-mondays-ch-115-public-access-tv/2026-09-21/
END:VEVENT
BEGIN:VEVENT
DTSTART;TZID=America/New_York:20260921T053000
DTEND;TZID=America/New_York:20260921T060000
DTSTAMP:20260420T150029
CREATED:20251010T183836Z
LAST-MODIFIED:20251010T183836Z
UID:31913-1789968600-1789970400@bridgeforpeace.org
SUMMARY:Hope Starts Here TV\, 5:30 am Mondays\, Ch. 115\, Altice USA Public Access TV
DESCRIPTION:Hope Starts Here Television Program Broadcast\nBroadcasted on Altice USA Public Access TV\, Ch. 115\, Mondays 5:30 am
URL:https://bridgeforpeace.org/event/hope-starts-here-tv-530-am-mondays-ch-115-altice-usa-public-access-tv/2026-09-21/
END:VEVENT
END:VCALENDAR