BEGIN:VCALENDAR
VERSION:2.0
PRODID:-//Bridge for Peace - ECPv6.15.20//NONSGML v1.0//EN
CALSCALE:GREGORIAN
METHOD:PUBLISH
X-WR-CALNAME:Bridge for Peace
X-ORIGINAL-URL:https://bridgeforpeace.org
X-WR-CALDESC:Events for Bridge for Peace
REFRESH-INTERVAL;VALUE=DURATION:PT1H
X-Robots-Tag:noindex
X-PUBLISHED-TTL:PT1H
BEGIN:VTIMEZONE
TZID:America/New_York
BEGIN:DAYLIGHT
TZOFFSETFROM:-0500
TZOFFSETTO:-0400
TZNAME:EDT
DTSTART:20170312T070000
END:DAYLIGHT
BEGIN:STANDARD
TZOFFSETFROM:-0400
TZOFFSETTO:-0500
TZNAME:EST
DTSTART:20171105T060000
END:STANDARD
BEGIN:DAYLIGHT
TZOFFSETFROM:-0500
TZOFFSETTO:-0400
TZNAME:EDT
DTSTART:20180311T070000
END:DAYLIGHT
BEGIN:STANDARD
TZOFFSETFROM:-0400
TZOFFSETTO:-0500
TZNAME:EST
DTSTART:20181104T060000
END:STANDARD
BEGIN:DAYLIGHT
TZOFFSETFROM:-0500
TZOFFSETTO:-0400
TZNAME:EDT
DTSTART:20190310T070000
END:DAYLIGHT
BEGIN:STANDARD
TZOFFSETFROM:-0400
TZOFFSETTO:-0500
TZNAME:EST
DTSTART:20191103T060000
END:STANDARD
END:VTIMEZONE
BEGIN:VEVENT
DTSTART;TZID=America/New_York:20180805T093000
DTEND;TZID=America/New_York:20180805T123000
DTSTAMP:20260420T070113
CREATED:20180725T181045Z
LAST-MODIFIED:20180725T181045Z
UID:3075-1533461400-1533472200@bridgeforpeace.org
SUMMARY:Restoration and Revival Center
DESCRIPTION:Restoration & Revival Center with Pastor Ellen 
URL:https://bridgeforpeace.org/event/restoration-and-revival-center/
LOCATION:Restoration and Revival Center\, 165 North Ocean Avenue\, Patchogue\, NY\, 11772\, United States
END:VEVENT
BEGIN:VEVENT
DTSTART;TZID=America/New_York:20180812T160000
DTEND;TZID=America/New_York:20180812T203000
DTSTAMP:20260420T070113
CREATED:20180618T163309Z
LAST-MODIFIED:20180803T164511Z
UID:2997-1534089600-1534105800@bridgeforpeace.org
SUMMARY:Sunset Praise Cruise\, Captree Boat Basin\, Gilgo-Oak Beach-Captree\, NY
DESCRIPTION:Click here for directions.
URL:https://bridgeforpeace.org/event/sunset-praise-cruise-captree-boat-basin-west-islip-ny/
LOCATION:Captree Boat Basin\, Gilgo-Oak Beach-Captree\, NY\, United States
END:VEVENT
END:VCALENDAR